{"text_format":"1","workbook":"xlsx","n_sheets":2,"sheets":["Sheet1","Sheet2"],"not_rendered":{"charts":0,"images":0,"macros":1,"external_links":0,"defined_names":8,"comments":0,"pivot_tables":0},"unopened":[],"bounds":{"document_bytes":16777216,"sheet_cells":100000,"rows_first":2000,"rows_last":500,"rows_between":2000,"halvings":0,"cell_chars":16384,"cell_head_chars":4096},"cells_cut":0,"cells_raw":0,"read":"whole","date_system":"1900"}

{"sheet":"Sheet1","index":0,"n_rows":19,"n_cols":9,"rows_kept":19,"cut":false,"hidden":false,"merged":[]}
[null,null,null,null,null,null,null,null,"Direct Dependents"]
["Min",1,null,null,null,null,null,null,"Indirect Dependents"]
["Max",10,null,null,null,null,null,null,"Direct Precedents"]
[null,null,null,null,null,null,null,null,"Indirect Precedents"]
[]
[null,null,{"$f":"showformula(C8)","v":"=[@A]+Min"},{"$f":"showformula(D8)","v":"=[@B]+Max"},{"$f":"showformula(E8)","v":"=[@C]+D8"},{"$f":"showformula(F8)","v":"=[@D]+1"},{"$f":"showformula(G8)","v":"=[@E]+1"}]
[null,"A","B","C","D","E","F"]
[null,6,{"$f":"tbl[[#This Row],[A]]+Min","v":7},{"$f":"tbl[[#This Row],[B]]+Max","v":17},{"$f":"tbl[[#This Row],[C]]+D8","v":34},{"$f":"tbl[[#This Row],[D]]+1","v":35},{"$f":"tbl[[#This Row],[E]]+1","v":36}]
[null,4,{"$f":"tbl[[#This Row],[A]]+Min","v":5},{"$f":"tbl[[#This Row],[B]]+Max","v":15},{"$f":"tbl[[#This Row],[C]]+D9","v":30},{"$f":"tbl[[#This Row],[D]]+1","v":31},{"$f":"tbl[[#This Row],[E]]+1","v":32}]
[null,7,{"$f":"tbl[[#This Row],[A]]+Min","v":8},{"$f":"tbl[[#This Row],[B]]+Max","v":18},{"$f":"tbl[[#This Row],[C]]+D10","v":36},{"$f":"tbl[[#This Row],[D]]+1","v":37},{"$f":"tbl[[#This Row],[E]]+1","v":38}]
[null,9,{"$f":"tbl[[#This Row],[A]]+Min","v":10},{"$f":"tbl[[#This Row],[B]]+Max","v":20},{"$f":"tbl[[#This Row],[C]]+D11","v":40},{"$f":"tbl[[#This Row],[D]]+1","v":41},{"$f":"tbl[[#This Row],[E]]+1","v":42}]
[null,2,{"$f":"tbl[[#This Row],[A]]+Min","v":3},{"$f":"tbl[[#This Row],[B]]+Max","v":13},{"$f":"tbl[[#This Row],[C]]+D12","v":26},{"$f":"tbl[[#This Row],[D]]+1","v":27},{"$f":"tbl[[#This Row],[E]]+1","v":28}]
[null,6,{"$f":"tbl[[#This Row],[A]]+Min","v":7},{"$f":"tbl[[#This Row],[B]]+Max","v":17},{"$f":"tbl[[#This Row],[C]]+D13","v":34},{"$f":"tbl[[#This Row],[D]]+1","v":35},{"$f":"tbl[[#This Row],[E]]+1","v":36}]
[null,1,{"$f":"tbl[[#This Row],[A]]+Min","v":2},{"$f":"tbl[[#This Row],[B]]+Max","v":12},{"$f":"tbl[[#This Row],[C]]+D14","v":24},{"$f":"tbl[[#This Row],[D]]+1","v":25},{"$f":"tbl[[#This Row],[E]]+1","v":26}]
[null,6,{"$f":"tbl[[#This Row],[A]]+Min","v":7},{"$f":"tbl[[#This Row],[B]]+Max","v":17},{"$f":"tbl[[#This Row],[C]]+D15","v":34},{"$f":"tbl[[#This Row],[D]]+1","v":35},{"$f":"tbl[[#This Row],[E]]+1","v":36}]
[null,6,{"$f":"tbl[[#This Row],[A]]+Min","v":7},{"$f":"tbl[[#This Row],[B]]+Max","v":17},{"$f":"tbl[[#This Row],[C]]+D16","v":34},{"$f":"tbl[[#This Row],[D]]+1","v":35},{"$f":"tbl[[#This Row],[E]]+1","v":36}]
[null,4,{"$f":"tbl[[#This Row],[A]]+Min","v":5},{"$f":"tbl[[#This Row],[B]]+Max","v":15},{"$f":"tbl[[#This Row],[C]]+D17","v":30},{"$f":"tbl[[#This Row],[D]]+1","v":31},{"$f":"tbl[[#This Row],[E]]+1","v":32}]
["Total",{"$f":"SUBTOTAL(109,tbl[A])","v":51},{"$f":"SUBTOTAL(109,tbl[B])","v":61},{"$f":"SUBTOTAL(109,tbl[C])","v":161},{"$f":"SUBTOTAL(109,tbl[D])","v":322},{"$f":"SUBTOTAL(109,tbl[E])","v":332},{"$f":"SUBTOTAL(109,tbl[F])","v":342}]
[null,{"$f":"B18","v":51},{"$f":"C18","v":61},161,322,332,342]

{"sheet":"Sheet2","index":1,"n_rows":2,"n_cols":7,"rows_kept":2,"cut":false,"hidden":false,"merged":[]}
[{"$f":"tbl[[#Totals],[A]]","v":51},{"$f":"tbl[[#Totals],[B]]","v":61},{"$f":"tbl[[#Totals],[C]]","v":161},{"$f":"tbl[[#Totals],[D]]","v":322},{"$f":"tbl[[#Totals],[E]]","v":332},{"$f":"tbl[[#Totals],[F]]","v":342},{"$f":"tbl[[#Totals],[A]]","v":51}]
[{"$f":"Sheet1!B19","v":51},{"$f":"Sheet1!C19","v":61},{"$f":"Sheet1!D19","v":161},{"$f":"Sheet1!E19","v":322},{"$f":"Sheet1!F19","v":332},{"$f":"Sheet1!G19","v":342},{"$f":"Sheet1!H19","v":0}]